BEGIN:VCALENDAR
VERSION:2.0
PRODID:DPCALENDAR
CALSCALE:GREGORIAN
BEGIN:VTIMEZONE
TZID:Asia/Jakarta
END:VTIMEZONE
X-WR-TIMEZONE:Asia/Jakarta
BEGIN:VEVENT
DTSTART;TZID=Asia/Jakarta:20201004T080000
DTEND;TZID=Asia/Jakarta:20201005T170000
UID:99322472-FD7A-4AAC-BAFB-64C4EA676DA7
SUMMARY:Pembinaan Bidang Yustisial
CREATED:20201009T035446Z
DTSTAMP:20201009T035446Z
DESCRIPTION:Pembinaan Bidang Yustisial Pada Satuan Kerja Pengadilan Agama Tasikmalaya dan Pengadilan Agama Ciamis
X-ALT-DESC;FMTTYPE=text/html:<p>Pembinaan Bidang Yustisial Pada Satuan Kerja Pengadilan Agama Tasikmalaya dan Pengadilan Agama Ciamis</p>
LAST-MODIFIED:20201009T035450Z
SEQUENCE:4
X-ACCESS:1
X-HITS:0
X-URL:www.google.com
X-COLOR:1deb27
X-SHOW-END-TIME:0
END:VEVENT
BEGIN:VEVENT
DTSTART;TZID=Asia/Jakarta:20201004T080000
DTEND;TZID=Asia/Jakarta:20201005T170000
UID:E72CF7AB-F8E4-47B7-896B-C74A60F66E89
SUMMARY:Kegiatan Pembinaan Bidang Yustisial 
CREATED:20201009T040136Z
DTSTAMP:20201009T040136Z
DESCRIPTION:Kegiatan Pembinaan Bidang Yustisial Pada Pengadilan Agama Tasikmalaya dan Pengadilan Agama Ciamis
X-ALT-DESC;FMTTYPE=text/html:<p>Kegiatan Pembinaan Bidang Yustisial Pada Pengadilan Agama Tasikmalaya dan Pengadilan Agama Ciamis</p>
LAST-MODIFIED:20201009T040142Z
SEQUENCE:6
X-ACCESS:1
X-HITS:1
X-URL:https://pta-bandung.go.id/index.php?option=com_dpcalendar&view=event&id=2&calid=50
X-COLOR:0ef019
X-SHOW-END-TIME:0
END:VEVENT
BEGIN:VEVENT
DTSTART;TZID=Asia/Jakarta:20201012T000000
DTEND;TZID=Asia/Jakarta:20201113T000000
UID:D908938B-A72F-4790-9EC8-58503686956B
SUMMARY:Asessment Surveillance Observasi Akreditasi Penjaminan Mutu Pengadilan Agama Wilayah PTA Jawa Barat
CREATED:20201015T021005Z
DTSTAMP:20201015T021005Z
DESCRIPTION:Pendampingan Tim dalam Kegiatan Asessment Surveillance Observasi Akreditasi Penjaminan Mutu Pengadilan Agama Wilayah Pengadilan Tinggi Agama Jawa Barat
X-ALT-DESC;FMTTYPE=text/html:<p>Pendampingan Tim dalam Kegiatan Asessment Surveillance Observasi Akreditasi Penjaminan Mutu Pengadilan Agama Wilayah Pengadilan Tinggi Agama Jawa Barat</p>
LAST-MODIFIED:20201015T021525Z
SEQUENCE:320
X-ACCESS:1
X-HITS:491
X-URL:https://pta-bandung.go.id/index.php?option=com_dpcalendar&view=event&id=4&calid=50
X-COLOR:00ffff
X-SHOW-END-TIME:0
END:VEVENT
BEGIN:VEVENT
DTSTART;TZID=Asia/Jakarta:20201012T080000
DTEND;TZID=Asia/Jakarta:20201113T043000
UID:D4812DA7-477F-4B65-B427-55EF2AD46EBC
SUMMARY:Asessment Surveillance Observasi Akreditasi Penjaminan Mutu Pengadilan Agama Wilayah PTA JAwa Barat
CREATED:20201009T040533Z
DTSTAMP:20201009T040533Z
DESCRIPTION:Kegiatan Asessment Surveillance Observasi Akreditasi Penjaminan Mutu Pengadilan Agama Wilayah PTA Jawa Barat.
X-ALT-DESC;FMTTYPE=text/html:<p>Kegiatan Asessment Surveillance Observasi Akreditasi Penjaminan Mutu Pengadilan Agama Wilayah PTA Jawa Barat.</p>
LAST-MODIFIED:20201015T025511Z
SEQUENCE:514178
X-ACCESS:1
X-HITS:438
X-URL:www.google.com
X-COLOR:13eb0c
X-SHOW-END-TIME:1
END:VEVENT
END:VCALENDAR